BEGIN:VCALENDAR
VERSION:2.0
PRODID:-//St Panteleimon London - ECPv6.15.20//NONSGML v1.0//EN
CALSCALE:GREGORIAN
METHOD:PUBLISH
X-ORIGINAL-URL:https://st-panteleimon.org
X-WR-CALDESC:Events for St Panteleimon London
REFRESH-INTERVAL;VALUE=DURATION:PT1H
X-Robots-Tag:noindex
X-PUBLISHED-TTL:PT1H
BEGIN:VTIMEZONE
TZID:Europe/London
BEGIN:DAYLIGHT
TZOFFSETFROM:+0000
TZOFFSETTO:+0100
TZNAME:BST
DTSTART:20200329T010000
END:DAYLIGHT
BEGIN:STANDARD
TZOFFSETFROM:+0100
TZOFFSETTO:+0000
TZNAME:GMT
DTSTART:20201025T010000
END:STANDARD
BEGIN:DAYLIGHT
TZOFFSETFROM:+0000
TZOFFSETTO:+0100
TZNAME:BST
DTSTART:20210328T010000
END:DAYLIGHT
BEGIN:STANDARD
TZOFFSETFROM:+0100
TZOFFSETTO:+0000
TZNAME:GMT
DTSTART:20211031T010000
END:STANDARD
BEGIN:DAYLIGHT
TZOFFSETFROM:+0000
TZOFFSETTO:+0100
TZNAME:BST
DTSTART:20220327T010000
END:DAYLIGHT
BEGIN:STANDARD
TZOFFSETFROM:+0100
TZOFFSETTO:+0000
TZNAME:GMT
DTSTART:20221030T010000
END:STANDARD
END:VTIMEZONE
BEGIN:VEVENT
DTSTART;TZID=Europe/London:20211205T093000
DTEND;TZID=Europe/London:20211205T120000
DTSTAMP:20260423T145312
CREATED:20211121T143511Z
LAST-MODIFIED:20211121T143511Z
UID:989198-1638696600-1638705600@st-panteleimon.org
SUMMARY:Matins & Divine Liturgy\, St. Savvas the Sactified
DESCRIPTION:– Days\n– Hours\n– Minutes\n– Seconds
URL:https://st-panteleimon.org/event/matins-divine-liturgy-st-savvas-the-sactified/
CATEGORIES:Services
ATTACH;FMTTYPE=image/jpeg:https://st-panteleimon.org/wp-content/uploads/2021/11/St.-Savvas.jpg
END:VEVENT
BEGIN:VEVENT
DTSTART;TZID=Europe/London:20211205T180000
DTEND;TZID=Europe/London:20211205T190000
DTSTAMP:20260423T145312
CREATED:20211121T143617Z
LAST-MODIFIED:20211121T143617Z
UID:989201-1638727200-1638730800@st-panteleimon.org
SUMMARY:Vespers
DESCRIPTION:– Days\n– Hours\n– Minutes\n– Seconds
URL:https://st-panteleimon.org/event/vespers-23/
CATEGORIES:Services
END:VEVENT
END:VCALENDAR