BEGIN:VCALENDAR
VERSION:2.0
PRODID:-//St Panteleimon London - ECPv6.15.20//NONSGML v1.0//EN
CALSCALE:GREGORIAN
METHOD:PUBLISH
X-ORIGINAL-URL:https://st-panteleimon.org
X-WR-CALDESC:Events for St Panteleimon London
REFRESH-INTERVAL;VALUE=DURATION:PT1H
X-Robots-Tag:noindex
X-PUBLISHED-TTL:PT1H
BEGIN:VTIMEZONE
TZID:Europe/London
BEGIN:DAYLIGHT
TZOFFSETFROM:+0000
TZOFFSETTO:+0100
TZNAME:BST
DTSTART:20200329T010000
END:DAYLIGHT
BEGIN:STANDARD
TZOFFSETFROM:+0100
TZOFFSETTO:+0000
TZNAME:GMT
DTSTART:20201025T010000
END:STANDARD
BEGIN:DAYLIGHT
TZOFFSETFROM:+0000
TZOFFSETTO:+0100
TZNAME:BST
DTSTART:20210328T010000
END:DAYLIGHT
BEGIN:STANDARD
TZOFFSETFROM:+0100
TZOFFSETTO:+0000
TZNAME:GMT
DTSTART:20211031T010000
END:STANDARD
BEGIN:DAYLIGHT
TZOFFSETFROM:+0000
TZOFFSETTO:+0100
TZNAME:BST
DTSTART:20220327T010000
END:DAYLIGHT
BEGIN:STANDARD
TZOFFSETFROM:+0100
TZOFFSETTO:+0000
TZNAME:GMT
DTSTART:20221030T010000
END:STANDARD
END:VTIMEZONE
BEGIN:VEVENT
DTSTART;TZID=Europe/London:20211107T090000
DTEND;TZID=Europe/London:20211107T150000
DTSTAMP:20260423T191405
CREATED:20211026T210614Z
LAST-MODIFIED:20211027T132849Z
UID:989072-1636275600-1636297200@st-panteleimon.org
SUMMARY:Matins & Divine Liturgy officiated by His Grace Bishop Raphael of Ilion\, following by a speech: The Contribution of the Neomartyrs to the Hellenic Revolution.
DESCRIPTION:
URL:https://st-panteleimon.org/event/matins-divine-liturgy-officiated-by-his-grace-bishop-raphael-of-ilion-following-by-a-speech-the-contribution-of-the-neomartyrs-to-the-hellenic-revolution/
CATEGORIES:Services
ATTACH;FMTTYPE=image/jpeg:https://st-panteleimon.org/wp-content/uploads/2021/10/Επίσκοπος-Ιλίου.jpg
END:VEVENT
END:VCALENDAR