BEGIN:VCALENDAR
VERSION:2.0
PRODID:-//St Panteleimon London - ECPv6.15.20//NONSGML v1.0//EN
CALSCALE:GREGORIAN
METHOD:PUBLISH
X-WR-CALNAME:St Panteleimon London
X-ORIGINAL-URL:https://st-panteleimon.org
X-WR-CALDESC:Events for St Panteleimon London
REFRESH-INTERVAL;VALUE=DURATION:PT1H
X-Robots-Tag:noindex
X-PUBLISHED-TTL:PT1H
BEGIN:VTIMEZONE
TZID:Europe/London
BEGIN:DAYLIGHT
TZOFFSETFROM:+0000
TZOFFSETTO:+0100
TZNAME:BST
DTSTART:20200329T010000
END:DAYLIGHT
BEGIN:STANDARD
TZOFFSETFROM:+0100
TZOFFSETTO:+0000
TZNAME:GMT
DTSTART:20201025T010000
END:STANDARD
BEGIN:DAYLIGHT
TZOFFSETFROM:+0000
TZOFFSETTO:+0100
TZNAME:BST
DTSTART:20210328T010000
END:DAYLIGHT
BEGIN:STANDARD
TZOFFSETFROM:+0100
TZOFFSETTO:+0000
TZNAME:GMT
DTSTART:20211031T010000
END:STANDARD
BEGIN:DAYLIGHT
TZOFFSETFROM:+0000
TZOFFSETTO:+0100
TZNAME:BST
DTSTART:20220327T010000
END:DAYLIGHT
BEGIN:STANDARD
TZOFFSETFROM:+0100
TZOFFSETTO:+0000
TZNAME:GMT
DTSTART:20221030T010000
END:STANDARD
END:VTIMEZONE
BEGIN:VEVENT
DTSTART;TZID=Europe/London:20210914T093000
DTEND;TZID=Europe/London:20210914T123000
DTSTAMP:20260424T021420
CREATED:20210826T175212Z
LAST-MODIFIED:20210826T175418Z
UID:988667-1631611800-1631622600@st-panteleimon.org
SUMMARY:Exaltation of the Holy Cross
DESCRIPTION:Matins & Divine Liturgy\, \nExaltation of the Holy Cross \n9:30 a.m.
URL:https://st-panteleimon.org/event/exaltation-of-the-holy-cross/
CATEGORIES:Services
ATTACH;FMTTYPE=image/jpeg:https://st-panteleimon.org/wp-content/uploads/2021/08/Ύψωσις-του-Τιμίου-Σταυρού.jpg
END:VEVENT
END:VCALENDAR